BEGIN:VCALENDAR
VERSION:2.0
PRODID:-//Les maîtres de la magie - ECPv6.15.20//NONSGML v1.0//EN
CALSCALE:GREGORIAN
METHOD:PUBLISH
X-ORIGINAL-URL:https://www.lesmaitresdelamagie.fr
X-WR-CALDESC:Évènements pour Les maîtres de la magie
REFRESH-INTERVAL;VALUE=DURATION:PT1H
X-Robots-Tag:noindex
X-PUBLISHED-TTL:PT1H
BEGIN:VTIMEZONE
TZID:Europe/Paris
BEGIN:DAYLIGHT
TZOFFSETFROM:+0100
TZOFFSETTO:+0200
TZNAME:CEST
DTSTART:20160327T010000
END:DAYLIGHT
BEGIN:STANDARD
TZOFFSETFROM:+0200
TZOFFSETTO:+0100
TZNAME:CET
DTSTART:20161030T010000
END:STANDARD
BEGIN:DAYLIGHT
TZOFFSETFROM:+0100
TZOFFSETTO:+0200
TZNAME:CEST
DTSTART:20170326T010000
END:DAYLIGHT
BEGIN:STANDARD
TZOFFSETFROM:+0200
TZOFFSETTO:+0100
TZNAME:CET
DTSTART:20171029T010000
END:STANDARD
BEGIN:DAYLIGHT
TZOFFSETFROM:+0100
TZOFFSETTO:+0200
TZNAME:CEST
DTSTART:20180325T010000
END:DAYLIGHT
BEGIN:STANDARD
TZOFFSETFROM:+0200
TZOFFSETTO:+0100
TZNAME:CET
DTSTART:20181028T010000
END:STANDARD
END:VTIMEZONE
BEGIN:VEVENT
DTSTART;TZID=Europe/Paris:20170127T190000
DTEND;TZID=Europe/Paris:20170127T193000
DTSTAMP:20260421T173553
CREATED:20161004T131247Z
LAST-MODIFIED:20170104T131849Z
UID:1993-1485543600-1485545400@www.lesmaitresdelamagie.fr
SUMMARY:Grand numéro d’illusion
DESCRIPTION:Afin de vous offrir un avant-goût du show d’exception du lendemain\, des animations auront lieux dans la galerie commerciale de Cora. Ensuite\, à 19h\, le célèbre magicien\, Enzo l’insaisissable\, réalisera un tour de magie grandiose sur la place de la Convention qui dépassera la frontière de l’illusion. \n  \nCe numéro en plein air est gratuit et ouvert à tous. \n  \nNon\, vous ne rêverez pas\, il neigera bien devant l’Espace Jean Vilar… et un engin hors norme fera son apparition… \n  \n\n 
URL:https://www.lesmaitresdelamagie.fr/evenements/spectacle-de-magie-pour-tous/
LOCATION:Espace Jean Vilar\, Rue Jean Bart\, Coudekerque-Branche\, 59210\, France
CATEGORIES:spectacle extérieur
ATTACH;FMTTYPE=image/jpeg:https://www.lesmaitresdelamagie.fr/wp-content-magie/uploads/2016/10/enzo-helico-800-800-1.jpg
END:VEVENT
END:VCALENDAR