BEGIN:VCALENDAR
VERSION:2.0
PRODID:-//Les maîtres de la magie - ECPv6.15.20//NONSGML v1.0//EN
CALSCALE:GREGORIAN
METHOD:PUBLISH
X-WR-CALNAME:Les maîtres de la magie
X-ORIGINAL-URL:https://www.lesmaitresdelamagie.fr
X-WR-CALDESC:Évènements pour Les maîtres de la magie
REFRESH-INTERVAL;VALUE=DURATION:PT1H
X-Robots-Tag:noindex
X-PUBLISHED-TTL:PT1H
BEGIN:VTIMEZONE
TZID:Europe/Paris
BEGIN:DAYLIGHT
TZOFFSETFROM:+0100
TZOFFSETTO:+0200
TZNAME:CEST
DTSTART:20190331T010000
END:DAYLIGHT
BEGIN:STANDARD
TZOFFSETFROM:+0200
TZOFFSETTO:+0100
TZNAME:CET
DTSTART:20191027T010000
END:STANDARD
BEGIN:DAYLIGHT
TZOFFSETFROM:+0100
TZOFFSETTO:+0200
TZNAME:CEST
DTSTART:20200329T010000
END:DAYLIGHT
BEGIN:STANDARD
TZOFFSETFROM:+0200
TZOFFSETTO:+0100
TZNAME:CET
DTSTART:20201025T010000
END:STANDARD
BEGIN:DAYLIGHT
TZOFFSETFROM:+0100
TZOFFSETTO:+0200
TZNAME:CEST
DTSTART:20210328T010000
END:DAYLIGHT
BEGIN:STANDARD
TZOFFSETFROM:+0200
TZOFFSETTO:+0100
TZNAME:CET
DTSTART:20211031T010000
END:STANDARD
END:VTIMEZONE
BEGIN:VEVENT
DTSTART;TZID=Europe/Paris:20200126T093000
DTEND;TZID=Europe/Paris:20200126T113000
DTSTAMP:20260421T120744
CREATED:20191231T114729Z
LAST-MODIFIED:20191231T114729Z
UID:5153-1580031000-1580038200@www.lesmaitresdelamagie.fr
SUMMARY:Le petit-déjeuner des sorciers
DESCRIPTION:Dimanche 26 janvier 2020 à partir de 9h30 \nTous les jeunes coudekerquois sont invités à l’Hôtel de ville pour rencontrer les artistes de la soirée de gala et participer au spectacle de Peter Din le ventriloque. \nEntrée : Gratuit pour tous les enfants de la commune\, sur inscription à la billetterie de l’espace Jean Vilar. \n  \nPour tout renseignement :\nService événementiel\n03 28 29 25 25 – postes 1078-1079\nou la billetterie : 03 28 51 45 82\n(uniquement pendant les ventes de places)
URL:https://www.lesmaitresdelamagie.fr/evenements/le-petit-dejeuner-des-sorciers/
LOCATION:Mairie de Coudekerque-Branche\, Place de la République\, Coudekerque-Branche\, 59210\, France
CATEGORIES:Rencontre
END:VEVENT
BEGIN:VEVENT
DTSTART;TZID=Europe/Paris:20200125T200000
DTEND;TZID=Europe/Paris:20200125T233000
DTSTAMP:20260421T120744
CREATED:20191231T113631Z
LAST-MODIFIED:20191231T120748Z
UID:5147-1579982400-1579995000@www.lesmaitresdelamagie.fr
SUMMARY:Soirée de gala exceptionnelle
DESCRIPTION:  \nLes artistes enchanteront la scène Jean Vilar le samedi 25 janvier à 20h à l’occasion de la grande soirée de gala animée par Jean Fred. \nVous pensiez que la ville de Coudekerque-Branche ne pouvait pas faire mieux que l’incroyable édition 2019 ? \nDétrompez-vous… cette année\, le festival des Maîtres de la magie ne durera pas 2\, pas 3 mais bien 6 jours ! \n  \n  \n  \n  \nLuc Langevin\nArtiste originaire du Québec\, où il a eu une émission de télévision à son nom\, il est aussi un incroyable magicien reconnu en France notamment par sa présence dans l’émission « Diversion » sur TF1. Il va vous emmener dans un univers où magie\, mentalisme et science se télescopent. \nTim Silver\nCe jeune magicien présente un show de grandes illusions moderne et rythmé. \nLes chapeaux blancs\nUn pur moment de magie en touche de noir et blanc. \nJérôme Helfenstein\nMagicien de classe mondiale\, il parcourt le monde avec son numéro « Ombre et lumière ». \nPierre Xamin\nSeul européen ayant pu s’initier à l’art chinois du changement de masques. \nFred Razon\nIl présente une magie rapprochée\, 100 % visuelle\, pleine d’humour et d’élégance. \nGill Ouzier\nFidèle aux Maîtres de la magie\, il possède un sens développé de la grande illusion et du fantastique. \n  \nEntrée : \nCoudekerquois de moins de 16 ans : 7\,5 euros\nCoudekerquois de plus de 16 ans : 15 euros\nExtérieurs de moins de 16 ans : 15 euros\nExtérieurs de plus de 16 ans : 25 euros \n  \nInformations pratiques pour le festival de magie\nLes places de la soirée de gala du samedi 25 janvier seront en vente à la billetterie de l’Espace Jean Vilar à partir du samedi 4 janvier pour les Coudekerquois et à partir du lundi 13 janvier pour les extérieurs. \n* Il sera demandé aux Coudekerquois la présentation d’une pièce d’identité et d’un justificatif de domicile lors de la vente des places.\n* Les places pour les spectacles du vendredi et du dimanche sont déjà disponibles à la billetterie.\n \n\nPour tout renseignement :\nService événementiel\n03 28 29 25 25 – postes 1078-1079\nou la billetterie : 03 28 51 45 82\n(uniquement pendant les ventes de places)
URL:https://www.lesmaitresdelamagie.fr/evenements/soiree-de-gala-exceptionnelle/
LOCATION:Espace Jean Vilar\, Rue Jean Bart\, Coudekerque-Branche\, 59210\, France
CATEGORIES:soirée de gala
ATTACH;FMTTYPE=image/jpeg:https://www.lesmaitresdelamagie.fr/wp-content-magie/uploads/2019/12/affiche-maître-de-la-magie-2020-800.jpg
END:VEVENT
BEGIN:VEVENT
DTSTART;TZID=Europe/Paris:20200124T200000
DTEND;TZID=Europe/Paris:20200124T233000
DTSTAMP:20260421T120744
CREATED:20191229T152148Z
LAST-MODIFIED:20191231T120539Z
UID:5144-1579896000-1579908600@www.lesmaitresdelamagie.fr
SUMMARY:Soirée qualificative de Magie FFAP
DESCRIPTION:Les meilleurs artistes s’affrontent pour la qualification aux championnats de France. À ne pas manquer ! \nLes artistes concourant aux championnats de France de magie présenteront leurs numéros d’exception à l’espace Jean Vilar vendredi 24 janvier 2020 à 20h. \nGrâce à la qualité de l’organisation\, le spectacle sera labellisé en 2020 FISM (Fédération Internationale des sociétés magiques) par l’organisateur des championnats du monde de magie. \nEt\, cerise sur le gâteau\, une partie du spectacle du célèbre mentaliste belge\, Carlos Vaquera\, sera présentée pendant la délibération du jury.\n\nEntrée :\nCoudekerquois : 5 euros – Extérieurs : 10 euros \nTarif réduit si 2 ou 3 spectacles achetés :\nCoudekerquois : 2 euros – Extérieurs : 7\,5 euros \n  \nInformations pratiques pour le festival de magie\nLes places de la soirée de gala du samedi 25 janvier seront en vente à la billetterie de l’Espace Jean Vilar à partir du samedi 4 janvier pour les Coudekerquois et à partir du lundi 13 janvier pour les extérieurs. \n* Il sera demandé aux Coudekerquois la présentation d’une pièce d’identité et d’un justificatif de domicile lors de la vente des places.\n* Les places pour les spectacles du vendredi et du dimanche sont déjà disponibles à la billetterie.\n\nPour tout renseignement : \nService événementiel\n03 28 29 25 25 – postes 1078-1079\nou la billetterie : 03 28 51 45 82\n(uniquement pendant les ventes de places)
URL:https://www.lesmaitresdelamagie.fr/evenements/soiree-qualificative-pour-les-championnats-de-france-de-magie-ffap/
LOCATION:Espace Jean Vilar\, Rue Jean Bart\, Coudekerque-Branche\, 59210\, France
CATEGORIES:Concours
ATTACH;FMTTYPE=image/jpeg:https://www.lesmaitresdelamagie.fr/wp-content-magie/uploads/2019/01/soirée-de-gala-les-maîtres-de-la-magie-2019-photo-9.jpg
END:VEVENT
BEGIN:VEVENT
DTSTART;TZID=Europe/Paris:20200120T143000
DTEND;TZID=Europe/Paris:20200123T200000
DTSTAMP:20260421T120744
CREATED:20191229T150553Z
LAST-MODIFIED:20191229T151445Z
UID:5134-1579530600-1579809600@www.lesmaitresdelamagie.fr
SUMMARY:Le Théâtre Magique
DESCRIPTION:  \nLa magie s’installe dans chaque quartier avant le grand festival \nUnique en Europe\, le Théâtre Magique s’invite à Coudekerque-Branche et vous propose son spectacle de magie itinérant. \nCette salle de spectacle mobile\, dédiée au théâtre\, à l’illusion et à la magie\, sera présente dans vos quartiers du lundi 20 au jeudi 23 janvier (programme complet en page 8 du magazine municipal Coud’coeur). \nConçu par le grand illusionniste Phil Keller\, le Théâtre Magique vous emportera au pays du rêve pendant près d’1h30 (disparition\, lévitation\, etc.). \n  \n  \nDeux séances d’1h30 seront proposées chaque jour : \n\nLundi 20 janvier à 14h30 et 18h30 : place des Anciens combattants d’Afrique du Nord (devant Paul-Schrive)\nMardi 21 et mercredi 22 janvier à 14h30 et 18h30 : place André-Delattre\nJeudi 23 janvier à 14h30 et 18h30 : place Mendès-France\n\nEntrée gratuite\, entrée libre dans la limite des places disponibles \n  \n 
URL:https://www.lesmaitresdelamagie.fr/evenements/le-theatre-magique/
CATEGORIES:spectacle extérieur
ATTACH;FMTTYPE=image/jpeg:https://www.lesmaitresdelamagie.fr/wp-content-magie/uploads/2019/12/Fontenay-le-Fleury.jpg
END:VEVENT
END:VCALENDAR