BEGIN:VCALENDAR
VERSION:2.0
PRODID:-//Les maîtres de la magie - ECPv6.15.20//NONSGML v1.0//EN
CALSCALE:GREGORIAN
METHOD:PUBLISH
X-ORIGINAL-URL:https://www.lesmaitresdelamagie.fr
X-WR-CALDESC:Évènements pour Les maîtres de la magie
REFRESH-INTERVAL;VALUE=DURATION:PT1H
X-Robots-Tag:noindex
X-PUBLISHED-TTL:PT1H
BEGIN:VTIMEZONE
TZID:Europe/Paris
BEGIN:DAYLIGHT
TZOFFSETFROM:+0100
TZOFFSETTO:+0200
TZNAME:CEST
DTSTART:20170326T010000
END:DAYLIGHT
BEGIN:STANDARD
TZOFFSETFROM:+0200
TZOFFSETTO:+0100
TZNAME:CET
DTSTART:20171029T010000
END:STANDARD
BEGIN:DAYLIGHT
TZOFFSETFROM:+0100
TZOFFSETTO:+0200
TZNAME:CEST
DTSTART:20180325T010000
END:DAYLIGHT
BEGIN:STANDARD
TZOFFSETFROM:+0200
TZOFFSETTO:+0100
TZNAME:CET
DTSTART:20181028T010000
END:STANDARD
BEGIN:DAYLIGHT
TZOFFSETFROM:+0100
TZOFFSETTO:+0200
TZNAME:CEST
DTSTART:20190331T010000
END:DAYLIGHT
BEGIN:STANDARD
TZOFFSETFROM:+0200
TZOFFSETTO:+0100
TZNAME:CET
DTSTART:20191027T010000
END:STANDARD
BEGIN:DAYLIGHT
TZOFFSETFROM:+0100
TZOFFSETTO:+0200
TZNAME:CEST
DTSTART:20200329T010000
END:DAYLIGHT
BEGIN:STANDARD
TZOFFSETFROM:+0200
TZOFFSETTO:+0100
TZNAME:CET
DTSTART:20201025T010000
END:STANDARD
END:VTIMEZONE
BEGIN:VEVENT
DTSTART;TZID=Europe/Paris:20190127T093000
DTEND;TZID=Europe/Paris:20190127T120000
DTSTAMP:20260423T121741
CREATED:20181011T082837Z
LAST-MODIFIED:20181011T090925Z
UID:4792-1548581400-1548590400@www.lesmaitresdelamagie.fr
SUMMARY:Petit déjeuner des sorciers
DESCRIPTION:Cet événement proposé par la ville Coudekerque-Branche qui attire petits et grands aura lieu le dimanche 27 janvier 2019 à 9h30 en mairie. Cette animation est réalisée en partenariat avec les élèves de l’école de magie de Coudekerque-Branche. \nCeux-ci invitent les enfants de la ville à un petit déjeuner en mairie en présence de plusieurs magiciens de la soirée de gala. Déjantés\, poétiques\, surprenants\, inventifs… ils dévoileront différentes facettes de la magie pour le bonheur des plus grands mais aussi pour des plus petits. \nL’entrée est gratuite mais sur inscription auprès service événementiel\, Espace Jean vilar\, rue Jean Bart (spectacle pour les 6 / 11 ans).  \n  \n\n 
URL:https://www.lesmaitresdelamagie.fr/evenements/petit-dejeuner-des-sorciers-2/
LOCATION:Mairie de Coudekerque-Branche\, Place de la République\, Coudekerque-Branche\, 59210\, France
CATEGORIES:Evénement
ATTACH;FMTTYPE=image/jpeg:https://www.lesmaitresdelamagie.fr/wp-content-magie/uploads/2018/02/petit-déjeuner-des-sorciers-2018-photo-3.jpg
END:VEVENT
BEGIN:VEVENT
DTSTART;TZID=Europe/Paris:20180204T160000
DTEND;TZID=Europe/Paris:20180204T173000
DTSTAMP:20260423T121741
CREATED:20171127T150437Z
LAST-MODIFIED:20180119T132856Z
UID:4373-1517760000-1517765400@www.lesmaitresdelamagie.fr
SUMMARY:Spectacle de magie "Tricheur"
DESCRIPTION:La ville de Coudekerque-Branche accueille le dimanche 4 février 2018 à l’Espace Jean Vilar le spectacle de magie : le tricheur de Maurice Douda. \nCe show est plus qu’un seul en scène sur l’univers de la triche. \nTricheur est un « road movie » sous forme de tableaux successifs dans lesquels Maurice vous fait voyager du début à la fin. Bien loin des codes habituels de la magie\, l’artiste a voulu une mise scène bien particulière. L’idée de ce spectacle a germé le soir de la remise de son prix au championnat de France FFAP en 2012 à Aix en Provence. \nCette année-là\, il présente son numéro de concours d’une durée de 9 minutes dans lequel il traite de la tricherie aux cartes\, et fait un parallèle entre tricheur et magicien. Le spectateur est impliqué dès le départ et c’est aussi dans cette énergie que « TRICHEUR » a été écrit. Il remporte un 3e Prix en cartomagie\, et pour lui c’est une nouvelle étape dans sa carrière. Dans son esprit\, ce nouveau spectacle vient de naître : il désire amener le close up sur scène\, et un spectacle autour de « la triche et des casinos » commence à prendre forme.\n \nMaurice revoit tous les grands classiques du cinéma sur le sujet : Casino\, Ocean Eleven mais aussi Les Joueurs. Les musiques aussi sont étudiées de près. Mais reste encore à trouver l’histoire. Et c’est celle du plus grand tricheur de tous les temps qui sera retenue\, Richard Marcus. L’équipe artistique adapte librement cette histoire vraie de la plus grande légende vivante des jeux d’argent. \nC’est seulement en dernier\, qu’il décide des effets de cartomagie qui seront présentés. Ce choix n’a pas été fait au hasard. En effet\, si Tricheur est mis en scène sous forme de « road movie » c’est bien parce que les tours sont là pour appuyer l’histoire et non le contraire. Le spectateur est alors embarqué durant plus d’une heure. \nL’artiste a alors revu à sa manière les tours qu’il présente afin qu’ils soient le plus purs possible. De vraies démonstrations de triche y sont bien sûr incluses. Grâce au texte\, à la mise en scène soignée\, et à la direction de comédien Tricheur est un seul en scène de « Magie théâtralisée ». \n  \n  \nTarifs spectacle « Tricheur » :\nCoudekerquois : 5 euros\nExtérieurs : 10 euros \nNouveauté : achetez vos places pour le samedi et le dimanche\, l’entrée vous sera offerte pour le vendredi ! \nBilletterie de l’Espace Jean Vilar – 03 28 51 45 82\nLundi\, mardi\, jeudi\, vendredi et samedi de 9h à 11h30\nMercredi de 14h à 16h \nPour les Coudekerquois\, à partir du samedi 13 janvier 2018\n (sur présentation d’un justificatif de domicile) \nPour les Extérieurs\, à partir du samedi 20 janvier 2018\n(sous réserve de places disponibles) \n  \n 
URL:https://www.lesmaitresdelamagie.fr/evenements/spectacle-de-magie-tricheur-de-maurice-douda/
LOCATION:Espace Jean Vilar\, Rue Jean Bart\, Coudekerque-Branche\, 59210\, France
CATEGORIES:Evénement
ATTACH;FMTTYPE=image/jpeg:https://www.lesmaitresdelamagie.fr/wp-content-magie/uploads/2017/11/visuel-spectacle-douda-2018.jpg
END:VEVENT
BEGIN:VEVENT
DTSTART;TZID=Europe/Paris:20180204T093000
DTEND;TZID=Europe/Paris:20180204T110000
DTSTAMP:20260423T121741
CREATED:20171124T142011Z
LAST-MODIFIED:20180104T104550Z
UID:4356-1517736600-1517742000@www.lesmaitresdelamagie.fr
SUMMARY:Petit déjeuner des sorciers
DESCRIPTION:Ce nouvel événement proposé par la ville Coudekerque-Branche aura lieu le dimanche 04 février 2018 à 9h30 en mairie. Cette animation est réalisée en partenariat avec les élèves de l’école de magie de Coudekerque-Branche. \nCeux-ci invitent les enfants de la ville à un petit déjeuner en mairie en présence de plusieurs magiciens de la soirée de gala. Déjantés\, poétiques\, surprenants\, inventifs… ils dévoileront différentes facettes de la magie pour le bonheur des plus grands mais aussi pour des plus petits. \nL’entrée est gratuite mais sur inscription auprès service événementiel\, Espace Jean vilar\, rue Jean Bart (spectacle pour les 6 / 11 ans).  \n  \n\n 
URL:https://www.lesmaitresdelamagie.fr/evenements/petit-dejeuner-des-sorciers/
LOCATION:Mairie de Coudekerque-Branche\, Place de la République\, Coudekerque-Branche\, 59210\, France
CATEGORIES:Evénement
END:VEVENT
END:VCALENDAR