BEGIN:VCALENDAR
VERSION:2.0
PRODID:-//Les maîtres de la magie - ECPv6.15.20//NONSGML v1.0//EN
CALSCALE:GREGORIAN
METHOD:PUBLISH
X-ORIGINAL-URL:https://www.lesmaitresdelamagie.fr
X-WR-CALDESC:Évènements pour Les maîtres de la magie
REFRESH-INTERVAL;VALUE=DURATION:PT1H
X-Robots-Tag:noindex
X-PUBLISHED-TTL:PT1H
BEGIN:VTIMEZONE
TZID:Europe/Paris
BEGIN:DAYLIGHT
TZOFFSETFROM:+0100
TZOFFSETTO:+0200
TZNAME:CEST
DTSTART:20180325T010000
END:DAYLIGHT
BEGIN:STANDARD
TZOFFSETFROM:+0200
TZOFFSETTO:+0100
TZNAME:CET
DTSTART:20181028T010000
END:STANDARD
BEGIN:DAYLIGHT
TZOFFSETFROM:+0100
TZOFFSETTO:+0200
TZNAME:CEST
DTSTART:20190331T010000
END:DAYLIGHT
BEGIN:STANDARD
TZOFFSETFROM:+0200
TZOFFSETTO:+0100
TZNAME:CET
DTSTART:20191027T010000
END:STANDARD
BEGIN:DAYLIGHT
TZOFFSETFROM:+0100
TZOFFSETTO:+0200
TZNAME:CEST
DTSTART:20200329T010000
END:DAYLIGHT
BEGIN:STANDARD
TZOFFSETFROM:+0200
TZOFFSETTO:+0100
TZNAME:CET
DTSTART:20201025T010000
END:STANDARD
BEGIN:DAYLIGHT
TZOFFSETFROM:+0100
TZOFFSETTO:+0200
TZNAME:CEST
DTSTART:20210328T010000
END:DAYLIGHT
BEGIN:STANDARD
TZOFFSETFROM:+0200
TZOFFSETTO:+0100
TZNAME:CET
DTSTART:20211031T010000
END:STANDARD
END:VTIMEZONE
BEGIN:VEVENT
DTSTART;TZID=Europe/Paris:20200120T143000
DTEND;TZID=Europe/Paris:20200123T200000
DTSTAMP:20260421T134106
CREATED:20191229T150553Z
LAST-MODIFIED:20191229T151445Z
UID:5134-1579530600-1579809600@www.lesmaitresdelamagie.fr
SUMMARY:Le Théâtre Magique
DESCRIPTION:  \nLa magie s’installe dans chaque quartier avant le grand festival \nUnique en Europe\, le Théâtre Magique s’invite à Coudekerque-Branche et vous propose son spectacle de magie itinérant. \nCette salle de spectacle mobile\, dédiée au théâtre\, à l’illusion et à la magie\, sera présente dans vos quartiers du lundi 20 au jeudi 23 janvier (programme complet en page 8 du magazine municipal Coud’coeur). \nConçu par le grand illusionniste Phil Keller\, le Théâtre Magique vous emportera au pays du rêve pendant près d’1h30 (disparition\, lévitation\, etc.). \n  \n  \nDeux séances d’1h30 seront proposées chaque jour : \n\nLundi 20 janvier à 14h30 et 18h30 : place des Anciens combattants d’Afrique du Nord (devant Paul-Schrive)\nMardi 21 et mercredi 22 janvier à 14h30 et 18h30 : place André-Delattre\nJeudi 23 janvier à 14h30 et 18h30 : place Mendès-France\n\nEntrée gratuite\, entrée libre dans la limite des places disponibles \n  \n 
URL:https://www.lesmaitresdelamagie.fr/evenements/le-theatre-magique/
CATEGORIES:spectacle extérieur
ATTACH;FMTTYPE=image/jpeg:https://www.lesmaitresdelamagie.fr/wp-content-magie/uploads/2019/12/Fontenay-le-Fleury.jpg
END:VEVENT
BEGIN:VEVENT
DTSTART;TZID=Europe/Paris:20190127T093000
DTEND;TZID=Europe/Paris:20190127T120000
DTSTAMP:20260421T134106
CREATED:20181011T082837Z
LAST-MODIFIED:20181011T090925Z
UID:4792-1548581400-1548590400@www.lesmaitresdelamagie.fr
SUMMARY:Petit déjeuner des sorciers
DESCRIPTION:Cet événement proposé par la ville Coudekerque-Branche qui attire petits et grands aura lieu le dimanche 27 janvier 2019 à 9h30 en mairie. Cette animation est réalisée en partenariat avec les élèves de l’école de magie de Coudekerque-Branche. \nCeux-ci invitent les enfants de la ville à un petit déjeuner en mairie en présence de plusieurs magiciens de la soirée de gala. Déjantés\, poétiques\, surprenants\, inventifs… ils dévoileront différentes facettes de la magie pour le bonheur des plus grands mais aussi pour des plus petits. \nL’entrée est gratuite mais sur inscription auprès service événementiel\, Espace Jean vilar\, rue Jean Bart (spectacle pour les 6 / 11 ans).  \n  \n\n 
URL:https://www.lesmaitresdelamagie.fr/evenements/petit-dejeuner-des-sorciers-2/
LOCATION:Mairie de Coudekerque-Branche\, Place de la République\, Coudekerque-Branche\, 59210\, France
CATEGORIES:Evénement
ATTACH;FMTTYPE=image/jpeg:https://www.lesmaitresdelamagie.fr/wp-content-magie/uploads/2018/02/petit-déjeuner-des-sorciers-2018-photo-3.jpg
END:VEVENT
END:VCALENDAR